BEGIN:VCALENDAR
VERSION:2.0
PRODID:-//Real Estate Strategies - ECPv6.13.2.1//NONSGML v1.0//EN
CALSCALE:GREGORIAN
METHOD:PUBLISH
X-ORIGINAL-URL:https://realestatestrategies.co.uk
X-WR-CALDESC:Events for Real Estate Strategies
REFRESH-INTERVAL;VALUE=DURATION:PT1H
X-Robots-Tag:noindex
X-PUBLISHED-TTL:PT1H
BEGIN:VTIMEZONE
TZID:UTC
BEGIN:STANDARD
TZOFFSETFROM:+0000
TZOFFSETTO:+0000
TZNAME:UTC
DTSTART:20260101T000000
END:STANDARD
END:VTIMEZONE
BEGIN:VEVENT
DTSTART;TZID=UTC:20260423T090000
DTEND;TZID=UTC:20260423T160000
DTSTAMP:20260424T014227
CREATED:20260318T140750Z
LAST-MODIFIED:20260318T140750Z
UID:2416-1776934800-1776960000@realestatestrategies.co.uk
SUMMARY:Bayfield/MSCI Course - Understanding Real Estate Performance Measurement and Portfolio Analysis
DESCRIPTION:
URL:https://realestatestrategies.co.uk/event/bayfield-msci-course-understanding-real-estate-performance-measurement-and-portfolio-analysis/
END:VEVENT
END:VCALENDAR